BEGIN:VCALENDAR
VERSION:2.0
PRODID:-//Ateneu de Sant Just Desvern - ECPv6.15.20//NONSGML v1.0//EN
CALSCALE:GREGORIAN
METHOD:PUBLISH
X-WR-CALNAME:Ateneu de Sant Just Desvern
X-ORIGINAL-URL:https://ateneudesvern.cat
X-WR-CALDESC:Esdeveniments per Ateneu de Sant Just Desvern
REFRESH-INTERVAL;VALUE=DURATION:PT1H
X-Robots-Tag:noindex
X-PUBLISHED-TTL:PT1H
BEGIN:VTIMEZONE
TZID:Europe/Andorra
BEGIN:DAYLIGHT
TZOFFSETFROM:+0100
TZOFFSETTO:+0200
TZNAME:CEST
DTSTART:20200329T010000
END:DAYLIGHT
BEGIN:STANDARD
TZOFFSETFROM:+0200
TZOFFSETTO:+0100
TZNAME:CET
DTSTART:20201025T010000
END:STANDARD
BEGIN:DAYLIGHT
TZOFFSETFROM:+0100
TZOFFSETTO:+0200
TZNAME:CEST
DTSTART:20210328T010000
END:DAYLIGHT
BEGIN:STANDARD
TZOFFSETFROM:+0200
TZOFFSETTO:+0100
TZNAME:CET
DTSTART:20211031T010000
END:STANDARD
BEGIN:DAYLIGHT
TZOFFSETFROM:+0100
TZOFFSETTO:+0200
TZNAME:CEST
DTSTART:20220327T010000
END:DAYLIGHT
BEGIN:STANDARD
TZOFFSETFROM:+0200
TZOFFSETTO:+0100
TZNAME:CET
DTSTART:20221030T010000
END:STANDARD
END:VTIMEZONE
BEGIN:VEVENT
DTSTART;TZID=Europe/Andorra:20211212T080000
DTEND;TZID=Europe/Andorra:20211212T170000
DTSTAMP:20260424T121444
CREATED:20250918T182957Z
LAST-MODIFIED:20250918T182957Z
UID:31872-1639296000-1639328400@ateneudesvern.cat
SUMMARY:Matinal als 3 cims del Montseny
DESCRIPTION:Segona matinal de la secció jove coronant els tres cims del Montseny: el Matagalls\, Les Agudes i el Turó de l’Home. Van gaudir d’un dia fantàstic\, amb vistes molt boniques i van fer pinya entre totes \n\n\nMIRA LES FOTOGRAFIES
URL:https://ateneudesvern.cat/esdeveniments/matinal-als-3-cims-del-montseny/
LOCATION:Barcelona
CATEGORIES:Fotografies SEAS Jove
ATTACH;FMTTYPE=image/jpeg:https://ateneudesvern.cat/wp-content/uploads/2025/09/Tres-cims-Montseny.jpg
ORGANIZER;CN="SEAS Jove":MAILTO:seasjove@ateneudesvern.cat
END:VEVENT
END:VCALENDAR