BEGIN:VCALENDAR
VERSION:2.0
PRODID:-//Ateneu de Sant Just Desvern - ECPv6.15.20//NONSGML v1.0//EN
CALSCALE:GREGORIAN
METHOD:PUBLISH
X-WR-CALNAME:Ateneu de Sant Just Desvern
X-ORIGINAL-URL:https://ateneudesvern.cat
X-WR-CALDESC:Esdeveniments per Ateneu de Sant Just Desvern
REFRESH-INTERVAL;VALUE=DURATION:PT1H
X-Robots-Tag:noindex
X-PUBLISHED-TTL:PT1H
BEGIN:VTIMEZONE
TZID:Europe/Andorra
BEGIN:DAYLIGHT
TZOFFSETFROM:+0100
TZOFFSETTO:+0200
TZNAME:CEST
DTSTART:20210328T010000
END:DAYLIGHT
BEGIN:STANDARD
TZOFFSETFROM:+0200
TZOFFSETTO:+0100
TZNAME:CET
DTSTART:20211031T010000
END:STANDARD
BEGIN:DAYLIGHT
TZOFFSETFROM:+0100
TZOFFSETTO:+0200
TZNAME:CEST
DTSTART:20220327T010000
END:DAYLIGHT
BEGIN:STANDARD
TZOFFSETFROM:+0200
TZOFFSETTO:+0100
TZNAME:CET
DTSTART:20221030T010000
END:STANDARD
BEGIN:DAYLIGHT
TZOFFSETFROM:+0100
TZOFFSETTO:+0200
TZNAME:CEST
DTSTART:20230326T010000
END:DAYLIGHT
BEGIN:STANDARD
TZOFFSETFROM:+0200
TZOFFSETTO:+0100
TZNAME:CET
DTSTART:20231029T010000
END:STANDARD
END:VTIMEZONE
BEGIN:VEVENT
DTSTART;TZID=Europe/Andorra:20220219T080000
DTEND;TZID=Europe/Andorra:20220220T170000
DTSTAMP:20260424T091128
CREATED:20250918T183140Z
LAST-MODIFIED:20250918T183150Z
UID:31876-1645257600-1645376400@ateneudesvern.cat
SUMMARY:Sortida a la neu al Capcir francès
DESCRIPTION:La secció jove ha donat el tret de sortida a les excursions de més d’un dia amb una ruta per la zona del Capcir\, a Camporrells i la Vall de Gauba.
URL:https://ateneudesvern.cat/esdeveniments/sortida-a-la-neu-al-capcir-frances/
LOCATION:Barcelona
CATEGORIES:Fotografies SEAS Jove
ATTACH;FMTTYPE=image/jpeg:https://ateneudesvern.cat/wp-content/uploads/2025/04/9.jpg
ORGANIZER;CN="SEAS Jove":MAILTO:seasjove@ateneudesvern.cat
END:VEVENT
END:VCALENDAR