BEGIN:VCALENDAR
VERSION:2.0
PRODID:-//Ateneu de Sant Just Desvern - ECPv6.15.20//NONSGML v1.0//EN
CALSCALE:GREGORIAN
METHOD:PUBLISH
X-WR-CALNAME:Ateneu de Sant Just Desvern
X-ORIGINAL-URL:https://ateneudesvern.cat
X-WR-CALDESC:Esdeveniments per Ateneu de Sant Just Desvern
REFRESH-INTERVAL;VALUE=DURATION:PT1H
X-Robots-Tag:noindex
X-PUBLISHED-TTL:PT1H
BEGIN:VTIMEZONE
TZID:Europe/Andorra
BEGIN:DAYLIGHT
TZOFFSETFROM:+0100
TZOFFSETTO:+0200
TZNAME:CEST
DTSTART:20250330T010000
END:DAYLIGHT
BEGIN:STANDARD
TZOFFSETFROM:+0200
TZOFFSETTO:+0100
TZNAME:CET
DTSTART:20251026T010000
END:STANDARD
BEGIN:DAYLIGHT
TZOFFSETFROM:+0100
TZOFFSETTO:+0200
TZNAME:CEST
DTSTART:20260329T010000
END:DAYLIGHT
BEGIN:STANDARD
TZOFFSETFROM:+0200
TZOFFSETTO:+0100
TZNAME:CET
DTSTART:20261025T010000
END:STANDARD
BEGIN:DAYLIGHT
TZOFFSETFROM:+0100
TZOFFSETTO:+0200
TZNAME:CEST
DTSTART:20270328T010000
END:DAYLIGHT
BEGIN:STANDARD
TZOFFSETFROM:+0200
TZOFFSETTO:+0100
TZNAME:CET
DTSTART:20271031T010000
END:STANDARD
END:VTIMEZONE
BEGIN:VEVENT
DTSTART;TZID=Europe/Andorra:20260717T120000
DTEND;TZID=Europe/Andorra:20260717T123000
DTSTAMP:20260422T034658
CREATED:20260329T182423Z
LAST-MODIFIED:20260329T182423Z
UID:35086-1784289600-1784291400@ateneudesvern.cat
SUMMARY:Casal d'estiu de teatre: representació de l'obra (setmana 4)
DESCRIPTION:Representació de l’obra creada durant la setmana. Conduït per monitores amb experiència en teatre i pedagogia infantil: Elisabet Giner\, Ariadna Gimeno i Daniela Fumadó. \nl casal d’estiu de Teatre es planteja com una experiència artística intensiva que combina creació\, convivència i aprenentatge. Mitjançant el treball setmanal culminat amb mostres públiques\, els participants viuen el procés complet de creació teatral\, desenvolupant habilitats personals i socials que transcendeixen l’àmbit escènic. El projecte s’emmarca dins la voluntat de l’Ateneu de Sant Just de promoure la cultura\, la formació artística i el creixement comunitari. \n\nMés informació sobre el Casal d’estiu de teatre en aquesta pàgina. \n\n 
URL:https://ateneudesvern.cat/esdeveniments/casal-estiu-teatre-setmana-4/
LOCATION:Sala del Cinquantenari\, c/ Ateneu\, 3\, Sant Just Desvern\, 08960
CATEGORIES:Ateneu agenda
ATTACH;FMTTYPE=image/jpeg:https://ateneudesvern.cat/wp-content/uploads/2026/03/Casal-teatre-estiu.jpg
END:VEVENT
BEGIN:VEVENT
DTSTART;TZID=Europe/Andorra:20260724T120000
DTEND;TZID=Europe/Andorra:20260724T123000
DTSTAMP:20260422T034658
CREATED:20260329T182419Z
LAST-MODIFIED:20260329T182419Z
UID:35088-1784894400-1784896200@ateneudesvern.cat
SUMMARY:Casal d'estiu de teatre: representació de l'obra (setmana 5)
DESCRIPTION:Representació de l’obra creada durant la setmana. Conduït per monitores amb experiència en teatre i pedagogia infantil: Elisabet Giner\, Ariadna Gimeno i Daniela Fumadó. \nl casal d’estiu de Teatre es planteja com una experiència artística intensiva que combina creació\, convivència i aprenentatge. Mitjançant el treball setmanal culminat amb mostres públiques\, els participants viuen el procés complet de creació teatral\, desenvolupant habilitats personals i socials que transcendeixen l’àmbit escènic. El projecte s’emmarca dins la voluntat de l’Ateneu de Sant Just de promoure la cultura\, la formació artística i el creixement comunitari. \n\nMés informació sobre el Casal d’estiu de teatre en aquesta pàgina. \n\n 
URL:https://ateneudesvern.cat/esdeveniments/casal-estiu-teatre-setmana-5/
LOCATION:Sala del Cinquantenari\, c/ Ateneu\, 3\, Sant Just Desvern\, 08960
CATEGORIES:Ateneu agenda
ATTACH;FMTTYPE=image/jpeg:https://ateneudesvern.cat/wp-content/uploads/2026/03/Casal-teatre-estiu.jpg
END:VEVENT
BEGIN:VEVENT
DTSTART;TZID=Europe/Andorra:20260731T120000
DTEND;TZID=Europe/Andorra:20260731T123000
DTSTAMP:20260422T034658
CREATED:20260329T182407Z
LAST-MODIFIED:20260329T182411Z
UID:35090-1785499200-1785501000@ateneudesvern.cat
SUMMARY:Casal d'estiu de teatre: representació de l'obra (setmana 6)
DESCRIPTION:Representació de l’obra creada durant la setmana. Conduït per monitores amb experiència en teatre i pedagogia infantil: Elisabet Giner\, Ariadna Gimeno i Daniela Fumadó. \nl casal d’estiu de Teatre es planteja com una experiència artística intensiva que combina creació\, convivència i aprenentatge. Mitjançant el treball setmanal culminat amb mostres públiques\, els participants viuen el procés complet de creació teatral\, desenvolupant habilitats personals i socials que transcendeixen l’àmbit escènic. El projecte s’emmarca dins la voluntat de l’Ateneu de Sant Just de promoure la cultura\, la formació artística i el creixement comunitari. \n\nMés informació sobre el Casal d’estiu de teatre en aquesta pàgina. \n\n 
URL:https://ateneudesvern.cat/esdeveniments/casal-estiu-teatre-setmana-6/
LOCATION:Sala del Cinquantenari\, c/ Ateneu\, 3\, Sant Just Desvern\, 08960
CATEGORIES:Ateneu agenda
ATTACH;FMTTYPE=image/jpeg:https://ateneudesvern.cat/wp-content/uploads/2026/03/Casal-teatre-estiu.jpg
END:VEVENT
BEGIN:VEVENT
DTSTART;VALUE=DATE:20260803
DTEND;VALUE=DATE:20260901
DTSTAMP:20260422T034658
CREATED:20260329T211848Z
LAST-MODIFIED:20260329T211940Z
UID:35143-1785715200-1788220799@ateneudesvern.cat
SUMMARY:Vacances d'estiu
DESCRIPTION:Del 3 al 31 d’agost\, l’Ateneu romandrà tancat per vacances d’estiu. \n\nPer a qualsevol consulta\, podeu enviar un correu electrònic a secretaria@ateneudesvern.cat i us respondrem tan aviat com sigui possible. Gràcies per la vostra comprensió! \n\n 
URL:https://ateneudesvern.cat/esdeveniments/vacances-estiu/
CATEGORIES:Ateneu agenda
ATTACH;FMTTYPE=image/jpeg:https://ateneudesvern.cat/wp-content/uploads/2026/03/Ateneu-edifici.jpg
END:VEVENT
END:VCALENDAR